BEGIN:VCALENDAR
VERSION:2.0
PRODID:-//https://richemont-club.es///NONSGML kigkonsult.se iCalcreator 2.10.15//
METHOD:PUBLISH
BEGIN:VEVENT
UID:20260420T065306UTC-6214PLZO5U@https://richemont-club.es/
DTSTAMP:20260420T065306Z
DESCRIPTION: https://richemont-club.es/de-ch/ch-events/ereignis/22-studienr
 eise-athen
DTSTART:20260504T100000Z
DTEND:20260506T100000Z
LOCATION:Richemont Fachschule (Seeburgstrasse 51)
SUMMARY:Studienreise Athen
URL:https://richemont-club.es/de-ch/ch-events/ereignis/22-studienreise-athe
 n
END:VEVENT
END:VCALENDAR
